BEGIN:VCALENDAR
VERSION:2.0
PRODID:-//Pagham Parish Council//Meeting Calendar//EN
CALSCALE:GREGORIAN
METHOD:PUBLISH
BEGIN:VEVENT
UID:70491-20260210@paghamparishcouncil.gov.uk
DTSTAMP:20260424T085458Z
DTSTART;VALUE=DATE:20260210
DTEND;VALUE=DATE:20260211
SUMMARY:Full Council Meeting &#8211\\; 10 February 2026
DESCRIPTION:Full Council Meeting\nView details: https://paghamparishcouncil.gov.uk/meetings/full-council-meeting-10-february-2026/
URL:https://paghamparishcouncil.gov.uk/meetings/full-council-meeting-10-february-2026/
END:VEVENT
END:VCALENDAR
