BEGIN:VCALENDAR
VERSION:2.0
PRODID:-//Pagham Parish Council//Meeting Calendar//EN
CALSCALE:GREGORIAN
METHOD:PUBLISH
BEGIN:VEVENT
UID:70494-20260127@paghamparishcouncil.gov.uk
DTSTAMP:20260424T083413Z
DTSTART;VALUE=DATE:20260127
DTEND;VALUE=DATE:20260128
SUMMARY:Full Council Meeting &#8211\\; 27 January 2026
DESCRIPTION:Full Council Meeting\nView details: https://paghamparishcouncil.gov.uk/meetings/full-council-meeting-27-january-2026/
URL:https://paghamparishcouncil.gov.uk/meetings/full-council-meeting-27-january-2026/
END:VEVENT
END:VCALENDAR
