BEGIN:VCALENDAR
VERSION:2.0
PRODID:-//Pagham Parish Council//Meeting Calendar//EN
CALSCALE:GREGORIAN
METHOD:PUBLISH
BEGIN:VEVENT
UID:70909-20260414@paghamparishcouncil.gov.uk
DTSTAMP:20260422T194143Z
DTSTART;VALUE=DATE:20260414
DTEND;VALUE=DATE:20260415
SUMMARY:Planning Committee Meeting &#8211\\; 14 April 2026
DESCRIPTION:Planning Committee Meeting\nView details: https://paghamparishcouncil.gov.uk/meetings/planning-committee-meeting-14-april-2026/
URL:https://paghamparishcouncil.gov.uk/meetings/planning-committee-meeting-14-april-2026/
END:VEVENT
END:VCALENDAR
