BEGIN:VCALENDAR
VERSION:2.0
PRODID:-//Pagham Parish Council//Meeting Calendar//EN
CALSCALE:GREGORIAN
METHOD:PUBLISH
BEGIN:VEVENT
UID:70910-20260428@paghamparishcouncil.gov.uk
DTSTAMP:20260422T135354Z
DTSTART;VALUE=DATE:20260428
DTEND;VALUE=DATE:20260429
SUMMARY:Planning Committee Meeting &#8211\\; 28 April 2026
DESCRIPTION:Planning Committee Meeting\nView details: https://paghamparishcouncil.gov.uk/meetings/planning-committee-meeting-28-april-2026/
URL:https://paghamparishcouncil.gov.uk/meetings/planning-committee-meeting-28-april-2026/
END:VEVENT
END:VCALENDAR
