BEGIN:VCALENDAR
VERSION:2.0
PRODID:-//Pagham Parish Council//Meeting Calendar//EN
CALSCALE:GREGORIAN
METHOD:PUBLISH
BEGIN:VEVENT
UID:70912-20260512@paghamparishcouncil.gov.uk
DTSTAMP:20260424T123737Z
DTSTART;VALUE=DATE:20260512
DTEND;VALUE=DATE:20260513
SUMMARY:Planning Committee Meeting &#8211\\; 12 May 2026
DESCRIPTION:Planning Committee Meeting\nView details: https://paghamparishcouncil.gov.uk/meetings/planning-committee-meeting-12-may-2026/
URL:https://paghamparishcouncil.gov.uk/meetings/planning-committee-meeting-12-may-2026/
END:VEVENT
END:VCALENDAR
