BEGIN:VCALENDAR
VERSION:2.0
PRODID:-//Pagham Parish Council//Meeting Calendar//EN
CALSCALE:GREGORIAN
METHOD:PUBLISH
BEGIN:VEVENT
UID:70914-20260526@paghamparishcouncil.gov.uk
DTSTAMP:20260424T105800Z
DTSTART;VALUE=DATE:20260526
DTEND;VALUE=DATE:20260527
SUMMARY:Full Council Meeting &#8211\\; 26 May 2026
DESCRIPTION:Full Council Meeting\nView details: https://paghamparishcouncil.gov.uk/meetings/full-council-meeting-26-may-2026/
URL:https://paghamparishcouncil.gov.uk/meetings/full-council-meeting-26-may-2026/
END:VEVENT
END:VCALENDAR
