BEGIN:VCALENDAR
VERSION:2.0
PRODID:-//Pagham Parish Council//Meeting Calendar//EN
CALSCALE:GREGORIAN
METHOD:PUBLISH
BEGIN:VEVENT
UID:70920-20260623@paghamparishcouncil.gov.uk
DTSTAMP:20260424T103847Z
DTSTART;VALUE=DATE:20260623
DTEND;VALUE=DATE:20260624
SUMMARY:Planning Committee Meeting &#8211\\; 23 June 2026
DESCRIPTION:Planning Committee Meeting\nView details: https://paghamparishcouncil.gov.uk/meetings/planning-committee-meeting-23-june-2026/
URL:https://paghamparishcouncil.gov.uk/meetings/planning-committee-meeting-23-june-2026/
END:VEVENT
END:VCALENDAR
