BEGIN:VCALENDAR
VERSION:2.0
PRODID:-//Pagham Parish Council//Meeting Calendar//EN
CALSCALE:GREGORIAN
METHOD:PUBLISH
BEGIN:VEVENT
UID:70922-20260714@paghamparishcouncil.gov.uk
DTSTAMP:20260424T142334Z
DTSTART;VALUE=DATE:20260714
DTEND;VALUE=DATE:20260715
SUMMARY:Planning Committee Meeting &#8211\\; 14 July 2026
DESCRIPTION:Planning Committee Meeting\nView details: https://paghamparishcouncil.gov.uk/meetings/planning-committee-meeting-14-july-2026/
URL:https://paghamparishcouncil.gov.uk/meetings/planning-committee-meeting-14-july-2026/
END:VEVENT
END:VCALENDAR
